BEGIN:VCALENDAR
VERSION:2.0
PRODID:-//eventon.com NONSGML v1.0//EN
CALSCALE:GREGORIAN
METHOD:PUBLISH
BEGIN:VEVENT
UID:69e5e58a85c16
DTSTAMP:20260420T083626Z
DTSTART:20260322T130000Z
DTEND:20260322T150000Z
LOCATION:
SUMMARY:Sips of Spring (21+)
DESCRIPTION:March 22\,  20261-3 pm Step into the garden and sip your way th
 rough spring in this 21+\,  hands-on mixology workshop inspired by flowers 
 in full bloom. As the garden awakens\,  you’ll learn how to craft a trio 
 of signature cocktails that celebrate the fresh\,  fragrant flavors of the 
 season using[..]\nhttps://membg.org/events/sips-of-spring-21/
URL:https://membg.org/events/sips-of-spring-21/
END:VEVENT
END:VCALENDAR