BEGIN:VCALENDAR
VERSION:2.0
PRODID:-//eventon.com NONSGML v1.0//EN
CALSCALE:GREGORIAN
METHOD:PUBLISH
BEGIN:VEVENT
UID:69e4ce0be814a
DTSTAMP:20260419T124355Z
DTSTART:20260311T100000Z
DTEND:20260311T110000Z
LOCATION:
SUMMARY:Caterpillar Club Spring 2026: Spring Sprouts
DESCRIPTION:Join us at the Garden for Pre-K fun this spring! Parents (or gr
 andparents\,  aunts\,  uncles\,  or nannies) accompany their toddler or pre
 schooler (ages 2-5) as they share stories\,  play games\,  create crafts\, 
  and explore the natural world. Led by Kristen Zemaitis\,  Formal Youth Edu
 cation Coordinator. Caterpillar Club is one of[..]\nhttps://membg.org/event
 s/caterpillar-club-spring-2026-spring-sprouts/var/ri-5.l-L1
URL:https://membg.org/events/caterpillar-club-spring-2026-spring-sprouts/var/ri-5.l-L1
END:VEVENT
END:VCALENDAR