BEGIN:VCALENDAR
VERSION:2.0
PRODID:-//eventon.com NONSGML v1.0//EN
CALSCALE:GREGORIAN
METHOD:PUBLISH
BEGIN:VEVENT
UID:69e9ec8a16544
DTSTAMP:20260423T095522Z
DTSTART:20251024T230000Z
DTEND:20251025T010000Z
LOCATION:
SUMMARY:Cauldron Succulent Planters (21+)
DESCRIPTION:October 24\,  20256-8 pm Join us this spooky season to create y
 our own witchy\,  wonderful\,  cauldron succulent planter at this hands-on 
 21+ plant party! Guests will receive their own plastic cauldron to load up 
 with a mixture of succulents\,  gravel\,  moss\,  tiny tombstones\,  and mo
 re. Don&#8217;t worry\,  we will also[..]\nhttps://membg.org/events/cauldro
 n-succulent-planters-21/
URL:https://membg.org/events/cauldron-succulent-planters-21/
END:VEVENT
END:VCALENDAR