BEGIN:VCALENDAR
VERSION:2.0
PRODID:-//eventon.com NONSGML v1.0//EN
CALSCALE:GREGORIAN
METHOD:PUBLISH
BEGIN:VEVENT
UID:69e9ea84cc412
DTSTAMP:20260423T094644Z
DTSTART:20251018T143000Z
DTEND:20251018T190000Z
LOCATION:
SUMMARY:Halloween Hike
DESCRIPTION:October 18\,  20259:30-2 pm (last entry 1 pm) Give your kiddos 
 pumpkin to talk about this Halloween! Take a hike through the Garden for so
 me not-so-spooky fun at the Memphis Boo-tanic Garden. No bones about it\,  
 you&#8217;ll shriek for joy at this fun\,  safe\,  daytime alternative to t
 raditional door-to-door trick-or-treating.[..]\nhttps://membg.org/events/ha
 lloween-hike-2/
URL:https://membg.org/events/halloween-hike-2/
END:VEVENT
END:VCALENDAR