BEGIN:VCALENDAR
VERSION:2.0
PRODID:-//eventon.com NONSGML v1.0//EN
CALSCALE:GREGORIAN
METHOD:PUBLISH
BEGIN:VEVENT
UID:69e5e59000993
DTSTAMP:20260420T083632Z
DTSTART:20241101
DTEND:20241102
LOCATION:
SUMMARY:In A Japanese Garden: An Exhibit of Flowers\,  Kimonos\,  and Gardens | Carol Adamec Exhibit
DESCRIPTION:November 1-December 30\,  2024On view in the Grand HallwayRecep
 tion: November 10\,  2-4 pm “With paint and brush\,  I have been chasing 
 Beauty for over 50 years. Mostly I work in oil on canvas and acrylic gouach
 e on rice paper and panel. Several years ago\,  while visiting the de Young
  Museum[..]\nhttps://membg.org/events/in-a-japanese-garden-an-exhibit-of-fl
 owers-kimonos-and-gardens-carol-adamec-exhibit/
URL:https://membg.org/events/in-a-japanese-garden-an-exhibit-of-flowers-kimonos-and-gardens-carol-adamec-exhibit/
END:VEVENT
END:VCALENDAR