BEGIN:VCALENDAR
VERSION:2.0
PRODID:-//eventon.com NONSGML v1.0//EN
CALSCALE:GREGORIAN
METHOD:PUBLISH
BEGIN:VEVENT
UID:69e76c4680f23
DTSTAMP:20260421T122334Z
DTSTART:20241101T220000Z
DTEND:20241102T001500Z
LOCATION:
SUMMARY:Japan Night: Fun Japanese Activities and "Fortune Favors Lady Nikuko" Movie Night
DESCRIPTION:November 1\,  20245-7:15 pm Enjoy an evening at the Garden with
  pre-screening activities at 5 pm followed by a screening of Fortune Favors
  Lady Nikuko. From acclaimed director Ayumu Watanabe (Children of the Sea) 
 and STUDIO4°C (Tekkonkinkreet\,  Mind Game) comes a heartwarming and movin
 g comedy-drama with touches of magical realism.[..]\nhttps://membg.org/even
 ts/japan-night-fun-japanese-activities-and-fortune-favors-lady-nikuko-movie
 -night/
URL:https://membg.org/events/japan-night-fun-japanese-activities-and-fortune-favors-lady-nikuko-movie-night/
END:VEVENT
END:VCALENDAR