BEGIN:VCALENDAR
VERSION:2.0
PRODID:-//eventon.com NONSGML v1.0//EN
CALSCALE:GREGORIAN
METHOD:PUBLISH
BEGIN:VEVENT
UID:69eb266832c89
DTSTAMP:20260424T081432Z
DTSTART:20240809
DTEND:20240810
LOCATION:
SUMMARY:The Garden Closes at 3 pm for Live at the Garden.
DESCRIPTION:\nhttps://membg.org/events/the-garden-closes-at-3-pm-for-live-a
 t-the-garden-3/
URL:https://membg.org/events/the-garden-closes-at-3-pm-for-live-at-the-garden-3/
END:VEVENT
END:VCALENDAR