BEGIN:VCALENDAR
VERSION:2.0
PRODID:-//eventon.com NONSGML v1.0//EN
CALSCALE:GREGORIAN
METHOD:PUBLISH
BEGIN:VEVENT
UID:69e4cf1505b64
DTSTAMP:20260419T124821Z
DTSTART:20240620T233000Z
DTEND:20240621T003000Z
LOCATION:
SUMMARY:Sound Bath Meditations with Kristina Brack
DESCRIPTION:June 20\,  6:30-7:30 pm Join us during the Garden’s extended 
 hours for a relaxing session of sound bath meditation with Kristina Brack. 
 This session will include winding down with crystal sound bowls while layin
 g down in nature to relieve tension and bring yourself back to a state of c
 alm. This[..]\nhttps://membg.org/events/sound-bath-meditations-with-kristin
 a-brack/
URL:https://membg.org/events/sound-bath-meditations-with-kristina-brack/
END:VEVENT
END:VCALENDAR