BEGIN:VCALENDAR
VERSION:2.0
PRODID:-//eventon.com NONSGML v1.0//EN
CALSCALE:GREGORIAN
METHOD:PUBLISH
BEGIN:VEVENT
UID:69e5e0c743953
DTSTAMP:20260420T081607Z
DTSTART:20240603T150000Z
DTEND:20240603T170000Z
LOCATION:
SUMMARY:Mudpie Mondays
DESCRIPTION:Mondays\,  June 3-August 26\,  10 am-12 pm Join us on the Mud P
 ie Patio in My Big Backyard for a mud-tastic time! Children can dig in and 
 craft their own mud pie using natural materials. This event is canceled if 
 it is raining. Free with Garden admission. No reservation is[..]\nhttps://m
 embg.org/events/mudpie-mondays-3/
URL:https://membg.org/events/mudpie-mondays-3/
END:VEVENT
END:VCALENDAR