BEGIN:VCALENDAR
VERSION:2.0
PRODID:-//eventon.com NONSGML v1.0//EN
CALSCALE:GREGORIAN
METHOD:PUBLISH
BEGIN:VEVENT
UID:69e4eb09c03a2
DTSTAMP:20260419T144737Z
DTSTART:20240403T143000Z
DTEND:20240403T173000Z
LOCATION:
SUMMARY:Acrylic Painting with Gay Rhodes
DESCRIPTION:NEW DATES: Wednesdays\,  April 3-April 24\,  9:30 am-12:30 pm J
 oin Instructor Gay Rhodes for this four-session painting series where stude
 nts will gain new skills from the instructor’s 20-plus years of teaching 
 experience. Topics will include planning and sketching for a painting and m
 ixing and applying paint in a variety of[..]\nhttps://membg.org/events/acry
 lic-painting-with-gay-rhodes-9/
URL:https://membg.org/events/acrylic-painting-with-gay-rhodes-9/
END:VEVENT
END:VCALENDAR