BEGIN:VCALENDAR
VERSION:2.0
PRODID:-//eventon.com NONSGML v1.0//EN
CALSCALE:GREGORIAN
METHOD:PUBLISH
BEGIN:VEVENT
UID:69e5f8d22a74c
DTSTAMP:20260420T095842Z
DTSTART:20240316T170000Z
DTEND:20240316T210000Z
LOCATION:
SUMMARY:Metal Forming: Leaves and Pods
DESCRIPTION:March 16\,  12-4 pm Learn some basic metal manipulation techniq
 ues that will give your metalwork dimension and drama. You can choose to ma
 ke either a pair of earrings or a necklace in this hands-on workshop. Youâ€
 ™ll learn how to strike the metal to create different shapes and how to tak
 e[..]\nhttps://membg.org/events/metal-forming-leaves-and-pods-2/
URL:https://membg.org/events/metal-forming-leaves-and-pods-2/
END:VEVENT
END:VCALENDAR