BEGIN:VCALENDAR
VERSION:2.0
PRODID:-//eventon.com NONSGML v1.0//EN
CALSCALE:GREGORIAN
METHOD:PUBLISH
BEGIN:VEVENT
UID:69e5e55bdafd5
DTSTAMP:20260420T083539Z
DTSTART:20231112
DTEND:20231113
LOCATION:
SUMMARY:Dreaming of a Place by Janet Weed Beaver and Melanie Beaver
DESCRIPTION:November 12-December 27. On view in the Visitors Center. Explor
 ing ideas in nature and places that inspire. “My heart is embedded in nat
 ure and farms. I’ve lived on farms for a majority of my life and my child
 ren were born to this life. My daughter Melanie\,  who I am privileged[..]\
 nhttps://membg.org/events/dreaming-of-a-place-by-janet-weed-beaver-and-mela
 nie-beaver/
URL:https://membg.org/events/dreaming-of-a-place-by-janet-weed-beaver-and-melanie-beaver/
END:VEVENT
END:VCALENDAR