BEGIN:VCALENDAR
VERSION:2.0
PRODID:-//eventon.com NONSGML v1.0//EN
CALSCALE:GREGORIAN
METHOD:PUBLISH
BEGIN:VEVENT
UID:69e76bdf49f5a
DTSTAMP:20260421T122151Z
DTSTART:20230603T143000Z
DTEND:20230603T193000Z
LOCATION:
SUMMARY:Jewelry Class with Brandy Boyd: Earring Sampler
DESCRIPTION:June 3\,  9:30 am-2:30 pm. Learn three techniques for making un
 ique earrings\,  no torch required! Learn to make a Byzantine chain maille 
 section out of brightly colored metal and add a sparkly dangle for your fir
 st pair. The second set will be a cold-connected\,  layered\,  multi-metal 
 pair that you can[..]\nhttps://membg.org/events/jewelry-class-with-brandy-b
 oyd-earring-sampler/
URL:https://membg.org/events/jewelry-class-with-brandy-boyd-earring-sampler/
END:VEVENT
END:VCALENDAR