BEGIN:VCALENDAR
VERSION:2.0
PRODID:-//eventon.com NONSGML v1.0//EN
CALSCALE:GREGORIAN
METHOD:PUBLISH
BEGIN:VEVENT
UID:69e4e66b0b8f3
DTSTAMP:20260419T142755Z
DTSTART:20230506T143000Z
DTEND:20230506T173000Z
LOCATION:
SUMMARY:Four-Week Painting Series with Marilyn Wannamaker
DESCRIPTION:Saturdays\,  May 6-27\,  9:30 am-12:30 pm. Drawing and painting
  classes for those with beginner skills through advanced levels of experien
 ce. Content includes expressive use of materials and techniques along with 
 regard for composition and personal interpretation. Ample time exists for e
 veryone to put lessons into practice in their own original[..]\nhttps://mem
 bg.org/events/four-week-painting-series-with-marilyn-wannamaker-5/
URL:https://membg.org/events/four-week-painting-series-with-marilyn-wannamaker-5/
END:VEVENT
END:VCALENDAR