BEGIN:VCALENDAR
VERSION:2.0
PRODID:-//eventon.com NONSGML v1.0//EN
CALSCALE:GREGORIAN
METHOD:PUBLISH
BEGIN:VEVENT
UID:69e5f9693052e
DTSTAMP:20260420T100113Z
DTSTART:20221101
DTEND:20221102
LOCATION:
SUMMARY:Gifts of Green
DESCRIPTION:November 1-December 30 Our popular seasonal Gifts of Green shop
  reopens November 1 in our Visitors Center through the end of the year. A v
 ariety of tropical and unusual plants\,  stylish pots\,  and other botanica
 l novelties make the perfect gift for the holiday hostess or your own home 
 decor!\nhttps://membg.org/events/gifts-of-green-2022/
URL:https://membg.org/events/gifts-of-green-2022/
END:VEVENT
END:VCALENDAR