BEGIN:VCALENDAR
VERSION:2.0
PRODID:-//eventon.com NONSGML v1.0//EN
CALSCALE:GREGORIAN
METHOD:PUBLISH
BEGIN:VEVENT
UID:69eca3d3eea84
DTSTAMP:20260425T112155Z
DTSTART:20220716T010000Z
DTEND:20220716T045900Z
LOCATION:
SUMMARY:Live at the Garden: Darius Rucker
DESCRIPTION:The Live at the Garden Summer Concert Series kicks off June 11 
 with pop/jazz fusion band Steely Dan\,  followed by country superstar Dariu
 s Rucker on July 15\,  country vocal trio Lady A on August 20\,  The Doobie
  Brothers 50th Anniversary Tour with Michael McDonald on September 3\,  and
  American pop-rock[..]\nhttps://membg.org/events/live-at-the-garden-darius-
 rucker/
URL:https://membg.org/events/live-at-the-garden-darius-rucker/
END:VEVENT
END:VCALENDAR