BEGIN:VCALENDAR
VERSION:2.0
PRODID:-//eventon.com NONSGML v1.0//EN
CALSCALE:GREGORIAN
METHOD:PUBLISH
BEGIN:VEVENT
UID:69e9d8cd4d1fe
DTSTAMP:20260423T083109Z
DTSTART:20220515T190000Z
DTEND:20220515T220000Z
LOCATION:
SUMMARY:Homely Gnomes
DESCRIPTION:May 15\,  2-5 pm. What kind of Homely Gnome do you want to make
 ? Becky Zee can help you make the exact kind of gnome you need for your gar
 den\,  porch\,  or windowsill. In this class\,  you will learn how to build
  it from a simple slab of clay and[..]\nhttps://membg.org/events/homely-gno
 mes-2/
URL:https://membg.org/events/homely-gnomes-2/
END:VEVENT
END:VCALENDAR