BEGIN:VCALENDAR
VERSION:2.0
PRODID:-//eventon.com NONSGML v1.0//EN
CALSCALE:GREGORIAN
METHOD:PUBLISH
BEGIN:VEVENT
UID:69e5e62344c98
DTSTAMP:20260420T083859Z
DTSTART:20220307
DTEND:20220308
LOCATION:
SUMMARY:Spring Cleaning Book Sale
DESCRIPTION:March 7-12\,  9 am-4:30 pm Shop a diverse selection of under ut
 ilized and gently used gardening and horticulture books from our collection
 . Proceeds benefit the Garden&#8217;s horticultural and educational program
 ming.\nhttps://membg.org/events/spring-cleaning-book-sale/
URL:https://membg.org/events/spring-cleaning-book-sale/
END:VEVENT
END:VCALENDAR