BEGIN:VCALENDAR
VERSION:2.0
PRODID:-//eventon.com NONSGML v1.0//EN
CALSCALE:GREGORIAN
METHOD:PUBLISH
BEGIN:VEVENT
UID:69e9ec2b1fc5d
DTSTAMP:20260423T095347Z
DTSTART:20220219T153000Z
DTEND:20220219T170000Z
LOCATION:
SUMMARY:Pruning Hydrangeas with Robin Howell
DESCRIPTION:February 19\,  9:30-11 am Ever wonder why your hydrangeas never
  bloom? You may be cutting them back at the wrong time of year. Join the Cu
 rator of the Japanese Garden\,  Robin Howell\,  to learn how different hydr
 angeas require different pruning techniques and timing. This class will req
 uire considerable walking as[..]\nhttps://membg.org/events/pruning-hydrange
 as-with-robin-howell/
URL:https://membg.org/events/pruning-hydrangeas-with-robin-howell/
END:VEVENT
END:VCALENDAR